BEGIN:VCALENDAR
VERSION:2.0
BEGIN:VEVENT
URL:http://www.signaturewines.com/wine-community/events/viewevent/65-livermore-valley-barrel-tasting-weekend 
DTSTART:20120331T120000
DTEND:20120401T163000
SUMMARY:Livermore Valley Barrel Tasting Weekend
DESCRIPTION:<p>Livermore Valley Barrel Tasting Weekend March 31 to April 1.</p>
<p><span style="font-family: arial,helvetica,sans-serif; color: #993300; font-size: medium;">Taste  wines right out of the barrel, meet winemakers, and more. Each winery  will host a unique experience during barrel tasting weekend including at  least 1 barrel sample for each ticket holder.  This is your chance to  pre-purchase wines before they have even bottled (aka "futures")! </span></p>
LOCATION:Livermore, CA
END:VEVENT
END:VCALENDAR