BEGIN:VCALENDAR
VERSION:2.0
BEGIN:VEVENT
URL:http://www.signaturewines.com/wine-community/events/viewevent/66-wine-pouring-and-food-pairing 
DTSTART:20120111T183000
DTEND:20120111T200000
SUMMARY:Wine Pouring and Food Pairing 
DESCRIPTION:<p>John Kinney, the winemaker of Occasio Winery will be pouring a selection of wines at the Winemaker’s  Pourhouse in downtown Livermore. The Pourhouse will be providing some  wonderful food pairings to go with the wines. Come and join us for this  special evening.</p>
LOCATION:The Winemaker's Pourhouse 2241 First Street Livermore, CA 94550
END:VEVENT
END:VCALENDAR