BEGIN:VCALENDAR
VERSION:2.0
BEGIN:VEVENT
URL:http://www.signaturewines.com/wine-community/events/viewevent/86-domenico-winemaker-dinner-at-il-fornaio-san-jose 
DTSTART:20120321T180000
DTEND:20120321T210000
SUMMARY:Domenico Winemaker Dinner at Il Fornaio (San Jose)
DESCRIPTION:<div class="body">
<p>Domenico Winery is pleased to partner with Il Fornaio  Restaurant in San Jose for a winemaker dinner with Dominick at 6pm  Wednesday March 21th!</p>
<p>The menu is currently being worked on by the Executive Chef at Il  Fornaio but the format for the dinner is a 5 course meal with Domenico  Wines all for $59.99 plus tax and tip.</p>
<p>For more information, please call Il Fornaio at 408-271-3366.</p>
<p>We hope to see you there!</p>
</div>
LOCATION:302 South Market Street (at the Sainte Claire) San Jose, CA 95113
END:VEVENT
END:VCALENDAR