BEGIN:VCALENDAR
VERSION:2.0
BEGIN:VEVENT
URL:http://www.signaturewines.com/wine-community/events/viewevent/87-spring-fling-and-annual-whites-sale 
DTSTART:20120526T120000
DTEND:20120528T170000
SUMMARY:Spring Fling and Annual Whites Sale
DESCRIPTION:<p><strong><em>May 26, 27 & 28, 2012 noon-5pm</em></strong></p>
<p><em><br /> </em>Our annual yearly sale of all our white wines and some new  releases on Memorial day Weekend. A great excuse to stock up on your  whites for the summer and enjoy our beautiful winery grounds in the  springtime.<strong> receive a fresh herb plant</strong> of your choice included with  every purchase of a case or more. Event cost is $10, $5 for Fanatics.</p>
LOCATION:Fenestra Winery 	 83 Vallecitos Road (Formerly CA Hwy 84)  Livermore, CA 94550
END:VEVENT
END:VCALENDAR