BEGIN:VCALENDAR
VERSION:2.0
BEGIN:VEVENT
URL:http://www.signaturewines.com/wine-community/events/viewevent/92-corralitos-wine-company-release-party 
DTSTART:20120421T120000
DTEND:20120421T170000
SUMMARY:Corralitos Wine Company Release Party
DESCRIPTION:<p>The newly created Corralitos Wine Company Tasting Room will celebrate their new weekend schedule with a Release Party for their 2010 Santa Lucia Highlands Chardonnay, Saturday, April 21, from noon until 5 p.m. The Tasting Room is located at the Store More America in Aptos (9687 Soquel Drive, Aptos 95003). Conveniently located just off of picturesque Highway 1 on the frontage road between Freedom Blvd and Rio Del Mar, the intimate tasting room offers FREE tastings on Saturday and Sundays.</p>
<p>The BBQ will be fired up, we'll have tours of the facility, and wonderful wines to taste and to take home.</p>
<p>Please invite friends and family to come join us for this inaugural gala!</p>
LOCATION:Aptos, CA
END:VEVENT
END:VCALENDAR